BEGIN:VCALENDAR
VERSION:2.0
PRODID:-//John Burroughs Natural History Society - ECPv6.0.10//NONSGML v1.0//EN
CALSCALE:GREGORIAN
METHOD:PUBLISH
X-WR-CALNAME:John Burroughs Natural History Society
X-ORIGINAL-URL:https://jbnhs.org
X-WR-CALDESC:Events for John Burroughs Natural History Society
REFRESH-INTERVAL;VALUE=DURATION:PT1H
X-Robots-Tag:noindex
X-PUBLISHED-TTL:PT1H
BEGIN:VTIMEZONE
TZID:America/New_York
BEGIN:DAYLIGHT
TZOFFSETFROM:-0500
TZOFFSETTO:-0400
TZNAME:EDT
DTSTART:20210314T070000
END:DAYLIGHT
BEGIN:STANDARD
TZOFFSETFROM:-0400
TZOFFSETTO:-0500
TZNAME:EST
DTSTART:20211107T060000
END:STANDARD
END:VTIMEZONE
BEGIN:VEVENT
DTSTART;TZID=America/New_York:20210415T150000
DTEND;TZID=America/New_York:20210415T160000
DTSTAMP:20260421T090239
CREATED:20210303T183433Z
LAST-MODIFIED:20210303T183433Z
UID:1388-1618498800-1618502400@jbnhs.org
SUMMARY:NY BBA III - BREEDING CODES WEBINAR
DESCRIPTION:Every time you’re out birding\, you’re observing bird behavior. It could be a song\, some territorial squabble\, or even a bird building a nest. Matching bird behaviors to specific codes is all you have to do to atlas! In this webinar we’ll review the various breeding categories and codes. There will be quizzes. \nEmail nybba3.hudson@gmail.com for more information or if you have any questions. \nJoin Zoom Meeting \nhttps://us02web.zoom.us/j/81078677776?pwd=eWhTdVBFSlVSK2lwOXBCeUFPNVQxUT09\nMeeting ID: 810 7867 7776\nPasscode: 073877\nOne tap mobile\n+16468769923\,\,81078677776#\,\,\,\,*073877# US (New York)\n+13017158592\,\,81078677776#\,\,\,\,*073877# US (Washington DC)\nDial by your location\n+1 646 876 9923 US (New York)\nMeeting ID: 810 7867 7776\nPasscode: 073877\nFind your local number: https://us02web.zoom.us/u/kcZasfbo5W
URL:https://jbnhs.org/event/ny-bba-iii-breeding-codes-webinar/
ATTACH;FMTTYPE=image/jpeg:https://jbnhs.org/wp-content/uploads/2019/12/NYBBAIII_logo_250.jpg
END:VEVENT
BEGIN:VEVENT
DTSTART;VALUE=DATE:20210417
DTEND;VALUE=DATE:20210419
DTSTAMP:20260421T090239
CREATED:20210310T024840Z
LAST-MODIFIED:20210310T024840Z
UID:1405-1618689600-1618775999@jbnhs.org
SUMMARY:OPEN DISCOVERY AT MILL BROOK PRESERVE
DESCRIPTION:Explore this new Preserve\, the hidden gem in the heart of New Paltz\, with Lynn Bowdery. We will look at and discuss  whatever catches our attention as we explore the paths and waterways. At this time of year\, there is a good chance of  hearing and seeing American Toads and Spring Peepers calling in the beaver impoundments. Early wildflowers\, birds\,   \nand insects will also be present. The footpaths might be muddy\, so appropriate footwear is a must. Binoculars and  magnifiers are recommended\, and there might be blackflies\, mosquitoes and ticks. This trip will be limited 10  participants. Please contact Lynn (lynn.bowdery@gmail.com ) to reserve your place and learn where and when to  meet. Rain cancels. 
URL:https://jbnhs.org/event/open-discovery-at-mill-brook-preserve-2/
ATTACH;FMTTYPE=image/jpeg:https://jbnhs.org/wp-content/uploads/2017/03/slabsides-trillium-e1490476510574.jpg
ORGANIZER;CN="Lynn%20Bowdery":MAILTO:lynn@bowderys.com 
END:VEVENT
BEGIN:VEVENT
DTSTART;TZID=America/New_York:20210422T150000
DTEND;TZID=America/New_York:20210422T160000
DTSTAMP:20260421T090239
CREATED:20210303T183758Z
LAST-MODIFIED:20210303T184751Z
UID:1393-1619103600-1619107200@jbnhs.org
SUMMARY:NY BBA III -  ATLASING WITH EBIRD WEBINAR
DESCRIPTION:Data is colleced for the Atlas using the Atlas Portal on eBird. Learn what the portal is and why it’s important to use. This webinar is appropriate for those who have never used eBird or for seasoned eBird users who have never used the Atlas Portal. \nEmail nybba3.hudson@gmail.com for more information or if you have any questions. \nJoin Zoom Meeting \nhttps://us02web.zoom.us/j/84550661831?pwd=S1RLSzRqSmpjWDI1QzBWWGVkamVyQT09\nMeeting ID: 845 5066 1831\nPasscode: 697496\nOne tap mobile\n+16468769923\,\,84550661831#\,\,\,\,*697496# US (New York)\n+13126266799\,\,84550661831#\,\,\,\,*697496# US (Chicago)\nDial by your location\n+1 646 876 9923 US (New York)\nMeeting ID: 845 5066 1831\nPasscode: 697496\nFind your local number: https://us02web.zoom.us/u/kbyIViTJf6
URL:https://jbnhs.org/event/ny-bba-iii-atlasing-with-ebird-webinar/
ATTACH;FMTTYPE=image/jpeg:https://jbnhs.org/wp-content/uploads/2019/12/NYBBAIII_logo_250.jpg
END:VEVENT
BEGIN:VEVENT
DTSTART;VALUE=DATE:20210423
DTEND;VALUE=DATE:20210425
DTSTAMP:20260421T090239
CREATED:20210308T005527Z
LAST-MODIFIED:20210310T024826Z
UID:1407-1619208000-1619294399@jbnhs.org
SUMMARY:SPRING BIRDING WILDCARD
DESCRIPTION:Please register with trip leader Peter Schoenberger (pdsis@yahoo.com ) so we can make arrangements for our party’s  travel and destination plans. The location for this outing will be determined a few days prior to the walk based on rare  or unusual sightings somewhere in the Hudson Valley. 
URL:https://jbnhs.org/event/spring-birding-wildcard-5/
ATTACH;FMTTYPE=image/jpeg:https://jbnhs.org/wp-content/uploads/2018/02/louisiana_waterthrush_schoenberger.jpg
ORGANIZER;CN="Peter%20Schoenberger":MAILTO:pdsis@yahoo.com
END:VEVENT
BEGIN:VEVENT
DTSTART;VALUE=DATE:20210424
DTEND;VALUE=DATE:20210426
DTSTAMP:20260421T090239
CREATED:20210308T005621Z
LAST-MODIFIED:20210310T024813Z
UID:1409-1619294400-1619380799@jbnhs.org
SUMMARY:KENNETH WILSON STATE PARK
DESCRIPTION:This park offers a variety of habitats and all are easily accessible\, with much of the walk on pavement. Please register  with trip leader Peter Schoenberger (pdsis@yahoo.com) to enjoy the start of the progression of neotropical bird  migration\, and if we’re quiet\, maybe a drumming grouse too! If time allows we may travel to nearby Yankeetown Pond  as well.
URL:https://jbnhs.org/event/kenneth-wilson-state-park-4/
ATTACH;FMTTYPE=image/jpeg:https://jbnhs.org/wp-content/uploads/2018/01/singing_schoenberger.jpg
ORGANIZER;CN="Peter%20Schoenberger":MAILTO:pdsis@yahoo.com
END:VEVENT
BEGIN:VEVENT
DTSTART;VALUE=DATE:20210430
DTEND;VALUE=DATE:20210502
DTSTAMP:20260421T090239
CREATED:20210308T005819Z
LAST-MODIFIED:20210308T005819Z
UID:1411-1619812800-1619899199@jbnhs.org
SUMMARY:ULSTER COUNTY BIG SIT
DESCRIPTION:JBNHS’ annual Big Sit is also our BIG fundraiser for the year but serves too as a friendly competition between the  established sits. Do you have a birdy back deck or favorite patch and a cause worth birding for? Why not join the  challenge and see how many species you can identify and get friends and family to pledge to your effort. In the past  money has been raised to support Glenn Proudfoot’s fine research with N. Saw-whet Owls\, numerous enhancements at  SGNWR\, the New York State Young Birders Club\, and Where to Bird in Ulster County panels now located at three  locations about the county.  \n-Great Vly Sit\nPeter will again be birding Fradon Marsh from his pressure treated tower and greatly helping our cumulative JBNHS Big  Sit total with all those wonderful marsh birds and maybe a surprise like another Black Tern!   \n-Kingston Point Sit\nSome use words like dynasty\, this may be premature\, but another dominant performance this year and it would be hard  to dispute. This perennial powerhouse will be birding to raise money to support Alyson Dudek’s Bailey Middle School  Young Naturalists Club.   \n-Galeville (SGNWR) Sit\nSpend some time on the observation deck at Galeville (SGNWR) looking and listening for those ever important (and  harder to find) grassland species. Please contact Donna Seymour (dseymour66@gmail.com ) to plan and schedule your  shift.  \n-Thorn Preserve Sit\nPlease contact Dixon Onderdonk (dixononderdonk@gmail.com ) if you’d like to help at this new “sit”. This property  would be perfect for a “Where to Bird” panel and maybe a feeding station. Funds raised would be dedicated to that end.  \n-Bowdery’s Homestead Sit\nAllan (with split shift coverage from his better half) will bird their yard with hopes of a good feeder bird to pad our  cumulative list and raise the most money we can to distribute in June to important environmental and conservation  concerns in the region.   \n-Hayes’ Homestead Sit \nDave and Tracey will bird their yard and do so for as good a cause as you could find\, Wild Mountain Birds and JBNHS  trustee Annie Mardiney’s awesome work.  \n-New Location for a Sit?\nPlease contact Mark DeDea (forsythnature@aol.com ) with any questions and to let us know about a new sit for  promotional/ fundraising sake.  \nDonations can be based on a pledge per species (specific sit or cumulative) or flat donation. Please  make checks payable to JBNHS and note desired sit you’d like to support. Send in donations to  Treasurer Lin Fagan 281 West Chestnut Street Kingston NY 12401. 
URL:https://jbnhs.org/event/ulster-county-big-sit-4/
ATTACH;FMTTYPE=image/jpeg:https://jbnhs.org/wp-content/uploads/2019/11/fox_sparrow_schoenberger.jpg
ORGANIZER;CN="Mark%20DeDea":MAILTO:forsythnature@aol.com
END:VEVENT
END:VCALENDAR