BEGIN:VCALENDAR
VERSION:2.0
PRODID:-//John Burroughs Natural History Society - ECPv6.0.10//NONSGML v1.0//EN
CALSCALE:GREGORIAN
METHOD:PUBLISH
X-WR-CALNAME:John Burroughs Natural History Society
X-ORIGINAL-URL:https://jbnhs.org
X-WR-CALDESC:Events for John Burroughs Natural History Society
REFRESH-INTERVAL;VALUE=DURATION:PT1H
X-Robots-Tag:noindex
X-PUBLISHED-TTL:PT1H
BEGIN:VTIMEZONE
TZID:America/New_York
BEGIN:DAYLIGHT
TZOFFSETFROM:-0500
TZOFFSETTO:-0400
TZNAME:EDT
DTSTART:20220313T070000
END:DAYLIGHT
BEGIN:STANDARD
TZOFFSETFROM:-0400
TZOFFSETTO:-0500
TZNAME:EST
DTSTART:20221106T060000
END:STANDARD
END:VTIMEZONE
BEGIN:VEVENT
DTSTART;TZID=America/New_York:20220716T040000
DTEND;TZID=America/New_York:20220716T080000
DTSTAMP:20260422T062146
CREATED:20220711T230353Z
LAST-MODIFIED:20220711T231335Z
UID:1707-1657944000-1657958400@jbnhs.org
SUMMARY:SUMMER MINDFULLNESS WALK AT THE ASHOKAN RAIL TRAIL
DESCRIPTION:While this walk will include some conventional practice of field identification and a little time for socializing\, it will focus on the direct experience of our bodies and senses underneath the labels and comparisons. Leader will offer suggestions for practices to direct the attention in a particular way. This may include short periods in which we’ll refrain from or minimize speaking. Please contact leader via email (mattcorsaro@yahoo.com )to register or ask questions. Group size will be limited to eight.
URL:https://jbnhs.org/event/summer-mindfullness-walk-at-the-ashokan-rail-trail/
ATTACH;FMTTYPE=image/jpeg:https://jbnhs.org/wp-content/uploads/2018/02/0424160844.jpg
ORGANIZER;CN="Matt%20Corsaro":MAILTO:mattcorsaro@yahoo.com 
END:VEVENT
BEGIN:VEVENT
DTSTART;TZID=America/New_York:20220723T160000
DTEND;TZID=America/New_York:20220723T180000
DTSTAMP:20260422T062146
CREATED:20220711T230537Z
LAST-MODIFIED:20220711T230537Z
UID:1709-1658592000-1658599200@jbnhs.org
SUMMARY:MOTH NIGHT AT BURROUGHS SANCTUARY
DESCRIPTION:A fun and unusual outing for our field trip schedule and what better way to celebrate National Moth Week. Enjoy Mathew’s extensive knowledge and enthusiasm for the subject and see if you retained any identification skills from last year! Bring along a folding chair and snack and a head lamp may come handy too. Please register with Joan Burroughs (jjjburroughs@yahoo.com ) to participate and get directions to Pond House parking and contact trip leader Mathew Rymkiewicz (dendroicist@gmail.com ) with any questions.
URL:https://jbnhs.org/event/moth-night-at-burroughs-sanctuary-3/
ATTACH;FMTTYPE=image/jpeg:https://jbnhs.org/wp-content/uploads/2016/07/luna_moth_340x300.jpg
ORGANIZER;CN="Mathew%20Rymkiewicz":MAILTO:dendroicist@gmail.com
END:VEVENT
END:VCALENDAR